BEGIN:VCALENDAR
VERSION:2.0
PRODID:-//Stroud Water Research Center - ECPv6.15.20//NONSGML v1.0//EN
CALSCALE:GREGORIAN
METHOD:PUBLISH
X-ORIGINAL-URL:https://stroudcenter.org
X-WR-CALDESC:Events for Stroud Water Research Center
REFRESH-INTERVAL;VALUE=DURATION:PT1H
X-Robots-Tag:noindex
X-PUBLISHED-TTL:PT1H
BEGIN:VTIMEZONE
TZID:America/New_York
BEGIN:DAYLIGHT
TZOFFSETFROM:-0500
TZOFFSETTO:-0400
TZNAME:EDT
DTSTART:20240310T070000
END:DAYLIGHT
BEGIN:STANDARD
TZOFFSETFROM:-0400
TZOFFSETTO:-0500
TZNAME:EST
DTSTART:20241103T060000
END:STANDARD
BEGIN:DAYLIGHT
TZOFFSETFROM:-0500
TZOFFSETTO:-0400
TZNAME:EDT
DTSTART:20250309T070000
END:DAYLIGHT
BEGIN:STANDARD
TZOFFSETFROM:-0400
TZOFFSETTO:-0500
TZNAME:EST
DTSTART:20251102T060000
END:STANDARD
BEGIN:DAYLIGHT
TZOFFSETFROM:-0500
TZOFFSETTO:-0400
TZNAME:EDT
DTSTART:20260308T070000
END:DAYLIGHT
BEGIN:STANDARD
TZOFFSETFROM:-0400
TZOFFSETTO:-0500
TZNAME:EST
DTSTART:20261101T060000
END:STANDARD
END:VTIMEZONE
BEGIN:VEVENT
DTSTART;TZID=America/New_York:20250809T100000
DTEND;TZID=America/New_York:20250809T130000
DTSTAMP:20260422T043708
CREATED:20250801T154151Z
LAST-MODIFIED:20250801T161623Z
UID:31497-1754733600-1754744400@stroudcenter.org
SUMMARY:Junior Ranger Angler Program
DESCRIPTION:When: Saturday\, August 9\, 2025\, from 10 a.m. to 1 p.m.\n\n\n\nWhere: White Clay Creek Preserve Office\, 405 Sharpless Road\, Landenberg\, PA 19350.\n\n\n\nAudience: Families interested in learning to fish together.\n\n\n\nCost: Free!\n\n\n\n\nJoin us for this exciting kick-off event full of fishy fun for the whole family! For the first time\, the White Clay Creek is getting its very own Junior Ranger Angler program. Similar to the Junior Ranger programs at National Parks\, this Junior Ranger Angler program will offer a booklet all about fishing with a few special pages specific to the White Clay Creek watershed.  \n\n\n\nAt this kickoff event\, stations will include learning to cast and other hands-on activities led by park rangers and stream scientists. After completion of your Junior Ranger Angler booklet\, you can be sworn in as a Junior Ranger Angler and receive a wooden badge! \n\n\n\nPresented in Partnership With
URL:https://stroudcenter.org/event/junior-ranger-angler-program/
LOCATION:White Clay Creek Preserve Office\, 405 Sharpless Road\, Landenberg\, Pennsylvania\, 19350\, United States
CATEGORIES:Outdoor Event
ATTACH;FMTTYPE=image/jpeg:https://stroudcenter.org/wp-content/uploads/junior-ranger-angling-event.jpg
END:VEVENT
END:VCALENDAR