BEGIN:VCALENDAR
VERSION:2.0
PRODID:-//Stroud Water Research Center - ECPv6.15.20//NONSGML v1.0//EN
CALSCALE:GREGORIAN
METHOD:PUBLISH
X-WR-CALNAME:Stroud Water Research Center
X-ORIGINAL-URL:https://stroudcenter.org
X-WR-CALDESC:Events for Stroud Water Research Center
REFRESH-INTERVAL;VALUE=DURATION:PT1H
X-Robots-Tag:noindex
X-PUBLISHED-TTL:PT1H
BEGIN:VTIMEZONE
TZID:America/New_York
BEGIN:DAYLIGHT
TZOFFSETFROM:-0500
TZOFFSETTO:-0400
TZNAME:EDT
DTSTART:20240310T070000
END:DAYLIGHT
BEGIN:STANDARD
TZOFFSETFROM:-0400
TZOFFSETTO:-0500
TZNAME:EST
DTSTART:20241103T060000
END:STANDARD
BEGIN:DAYLIGHT
TZOFFSETFROM:-0500
TZOFFSETTO:-0400
TZNAME:EDT
DTSTART:20250309T070000
END:DAYLIGHT
BEGIN:STANDARD
TZOFFSETFROM:-0400
TZOFFSETTO:-0500
TZNAME:EST
DTSTART:20251102T060000
END:STANDARD
BEGIN:DAYLIGHT
TZOFFSETFROM:-0500
TZOFFSETTO:-0400
TZNAME:EDT
DTSTART:20260308T070000
END:DAYLIGHT
BEGIN:STANDARD
TZOFFSETFROM:-0400
TZOFFSETTO:-0500
TZNAME:EST
DTSTART:20261101T060000
END:STANDARD
END:VTIMEZONE
BEGIN:VEVENT
DTSTART;TZID=America/New_York:20251105T130000
DTEND;TZID=America/New_York:20251105T160000
DTSTAMP:20260420T083714
CREATED:20251028T204226Z
LAST-MODIFIED:20251028T204453Z
UID:32205-1762347600-1762358400@stroudcenter.org
SUMMARY:Volunteer Tree Planting
DESCRIPTION:When: Wednesday\, November 5\, 2025\, from 1 to 4 p.m.\n\n\n\nWhere: Homeville Road in Cochranville\, PA. Exact address and parking directions will be emailed to you when you RSVP.\n\n\n\n\nHelp us plant trees in Cochranville with the Chesapeake Bay Foundation! Please RSVP to Jess at jprovinski@stroudcenter.org for details.
URL:https://stroudcenter.org/event/volunteer-tree-planting-2/
LOCATION:Pennsylvania
CATEGORIES:Outdoor Event
ATTACH;FMTTYPE=image/jpeg:https://stroudcenter.org/wp-content/uploads/sycamore-volunteers-tree-planting.jpg
END:VEVENT
END:VCALENDAR