BEGIN:VCALENDAR
VERSION:2.0
PRODID:-//Stroud Water Research Center - ECPv6.15.20//NONSGML v1.0//EN
CALSCALE:GREGORIAN
METHOD:PUBLISH
X-WR-CALNAME:Stroud Water Research Center
X-ORIGINAL-URL:https://stroudcenter.org
X-WR-CALDESC:Events for Stroud Water Research Center
REFRESH-INTERVAL;VALUE=DURATION:PT1H
X-Robots-Tag:noindex
X-PUBLISHED-TTL:PT1H
BEGIN:VTIMEZONE
TZID:America/New_York
BEGIN:DAYLIGHT
TZOFFSETFROM:-0500
TZOFFSETTO:-0400
TZNAME:EDT
DTSTART:20230312T070000
END:DAYLIGHT
BEGIN:STANDARD
TZOFFSETFROM:-0400
TZOFFSETTO:-0500
TZNAME:EST
DTSTART:20231105T060000
END:STANDARD
BEGIN:DAYLIGHT
TZOFFSETFROM:-0500
TZOFFSETTO:-0400
TZNAME:EDT
DTSTART:20240310T070000
END:DAYLIGHT
BEGIN:STANDARD
TZOFFSETFROM:-0400
TZOFFSETTO:-0500
TZNAME:EST
DTSTART:20241103T060000
END:STANDARD
BEGIN:DAYLIGHT
TZOFFSETFROM:-0500
TZOFFSETTO:-0400
TZNAME:EDT
DTSTART:20250309T070000
END:DAYLIGHT
BEGIN:STANDARD
TZOFFSETFROM:-0400
TZOFFSETTO:-0500
TZNAME:EST
DTSTART:20251102T060000
END:STANDARD
END:VTIMEZONE
BEGIN:VEVENT
DTSTART;TZID=America/New_York:20240306T160000
DTEND;TZID=America/New_York:20240306T180000
DTSTAMP:20260419T082758
CREATED:20231205T195424Z
LAST-MODIFIED:20240305T185544Z
UID:29313-1709740800-1709748000@stroudcenter.org
SUMMARY:Improving Schoolyards for Outdoor Environmental Education and Stewardship
DESCRIPTION:When: Wednesday\, March 6\, 2024\, 4–6 p.m. EST.\n\n\n\nWhere: Online via Zoom. The connection link will be emailed prior to the event\, and a recording of the webinar will be sent to participants.\n\n\n\nAudience: This online session is open to all audiences\, but it is especially supportive to homeschool providers\, classroom teachers\, and nonformal environmental educators. Two hours of Act 48 are available for Pennsylvania Certified Teachers. A certificate of participation will be provided upon request.\n\n\n\nCost: $10. Submit the registration form and then make the payment.\n\n\n\nDeadline to register: 5 p.m. EST on March 5.\n\n\n\n\n\nRegister Now\n\n\n\nPay Workshop Fee\n\n\n\n\nOutdoor learning spaces benefit water quality and wildlife habitat and provide meaningful outdoor learning opportunities for teachers and their K–12 students.  \n\n\n\nIn this workshop\, participants will hear directly from elementary through high school educators who have created outdoor learning spaces at their schools\, and from Stroud Center education staff. They will discuss the process of creating outdoor learning spaces\, from design and building to lesson implementation.  \n\n\n\nPresenters will also share tips on how to get started\, how to find funding\, what design tools to use\, and how to successfully communicate with key staff in the district.  \n\n\n\nResources and a recording of the webinar will be shared after the workshop with all registrants. \n\n\n\nLearning Objectives\n\n\n\n\nParticipants will receive information about tools and resources available for outdoor learning space design and implementation.\n\n\n\nParticipants will learn about successful models of increasing equitable access to meaningful outdoor learning spaces for teachers and their K–12 students through the design of the spaces.
URL:https://stroudcenter.org/event/improving-schoolyards-for-outdoor-learning/
LOCATION:Online
CATEGORIES:Virtual Workshop
ATTACH;FMTTYPE=image/jpeg:https://stroudcenter.org/wp-content/uploads/outdoor-classroom-educator-working.jpg
END:VEVENT
END:VCALENDAR