BEGIN:VCALENDAR
VERSION:2.0
PRODID:-//Stroud Water Research Center - ECPv6.15.20//NONSGML v1.0//EN
CALSCALE:GREGORIAN
METHOD:PUBLISH
X-WR-CALNAME:Stroud Water Research Center
X-ORIGINAL-URL:https://stroudcenter.org
X-WR-CALDESC:Events for Stroud Water Research Center
REFRESH-INTERVAL;VALUE=DURATION:PT1H
X-Robots-Tag:noindex
X-PUBLISHED-TTL:PT1H
BEGIN:VTIMEZONE
TZID:America/New_York
BEGIN:DAYLIGHT
TZOFFSETFROM:-0500
TZOFFSETTO:-0400
TZNAME:EDT
DTSTART:20250309T070000
END:DAYLIGHT
BEGIN:STANDARD
TZOFFSETFROM:-0400
TZOFFSETTO:-0500
TZNAME:EST
DTSTART:20251102T060000
END:STANDARD
BEGIN:DAYLIGHT
TZOFFSETFROM:-0500
TZOFFSETTO:-0400
TZNAME:EDT
DTSTART:20260308T070000
END:DAYLIGHT
BEGIN:STANDARD
TZOFFSETFROM:-0400
TZOFFSETTO:-0500
TZNAME:EST
DTSTART:20261101T060000
END:STANDARD
BEGIN:DAYLIGHT
TZOFFSETFROM:-0500
TZOFFSETTO:-0400
TZNAME:EDT
DTSTART:20270314T070000
END:DAYLIGHT
BEGIN:STANDARD
TZOFFSETFROM:-0400
TZOFFSETTO:-0500
TZNAME:EST
DTSTART:20271107T060000
END:STANDARD
END:VTIMEZONE
BEGIN:VEVENT
DTSTART;TZID=America/New_York:20260207T100000
DTEND;TZID=America/New_York:20260207T150000
DTSTAMP:20260420T084146
CREATED:20251211T200716Z
LAST-MODIFIED:20260206T202010Z
UID:32353-1770458400-1770476400@stroudcenter.org
SUMMARY:Prekindergarten–Fifth Grade Educator Workshop: Hands-On Environmental Science Activities
DESCRIPTION:Photo: Eric Newell\, Edith Bowen Laboratory School\n\n\n\n\nWhen: Saturday\, February 7\, 2026 from 10 a.m. to 3 p.m.\n\n\n\nWhere: Stroud Water Research Center\, 970 Spencer Road\, Avondale\, PA 19311. \n\n\n\nAudience: Prekindergarten–fifth grade classroom teachers\, nonformal educators\, before- and after-school instructors\, and childcare professionals. \n\n\n\nAct 48: Up to five hours.\n\n\n\nCost: FREE\, including lunch and educational resources.\n\n\n\nRegistration is limited and closes on February 4. \n\n\n\n\nJoin Us to Explore Strategies and Activities That Engage Young Learners With Science and Nature\n\n\n\n\n\n\n\nDuring this workshop\, we’ll discuss methods to include environmental education across prekindergarten through fifth-grade settings\, including classrooms\, childcare centers\, and before- and after-school programs. \n\n\n\nParticipants will have hands-on experience with several different environmental education activities and go home with free resource guides and instructional materials. Up to five Act 48 hours will be provided to Pennsylvania-certified teachers.  \n\n\n\nIn this workshop\, you will: \n\n\n\n\nGet hands-on experience with several environmental education activities designed and scaffolded for prekindergarten to fifth-grade students. \n\n\n\nBecome more familiar with teaching tools and strategies to teach about the environment and in the outdoors\, including an introduction to NOAA’s Meaningful Watershed Educational Experience framework. \n\n\n\nReceive a copy of Getting Little Feet Wet: Project WET’s Early Childhood Education Guide\, and take home instructional materials to incorporate more environmental education into your classroom or educational setting. \n\n\n\n\nThis workshop is funded with support from the National Oceanic and Atmospheric Administration and the North American Association for Environmental Education’s eeBLUE 21st CCLC Watershed STEM Education Partnership Grant Program. \n\n\n\nQuestions? Please contact Education Program Manager\, Kathryn Difo\, kdifo@stroudcenter.org.
URL:https://stroudcenter.org/event/prek-5-educator-workshop-hands-on-environmental-science/
LOCATION:Stroud Water Research Center\, 970 Spencer Road\, Avondale\, PA\, 19311\, United States
CATEGORIES:Workshop
ATTACH;FMTTYPE=image/jpeg:https://stroudcenter.org/wp-content/uploads/children-writing-field-journals-creek-critters.jpg
END:VEVENT
BEGIN:VEVENT
DTSTART;TZID=America/New_York:20260216T090000
DTEND;TZID=America/New_York:20260216T153000
DTSTAMP:20260420T084146
CREATED:20251218T194738Z
LAST-MODIFIED:20260209T203558Z
UID:32378-1771232400-1771255800@stroudcenter.org
SUMMARY:[CANCELED] School-Days-Off Camp: Watershed Wonders
DESCRIPTION:Sorry\, this event has been canceled.
URL:https://stroudcenter.org/event/school-days-off-camp-february/
LOCATION:Stroud Water Research Center\, 970 Spencer Road\, Avondale\, PA\, 19311\, United States
CATEGORIES:Camp
ATTACH;FMTTYPE=image/jpeg:https://stroudcenter.org/wp-content/uploads/School-Days-Off-Camp_Landscape.jpg
END:VEVENT
END:VCALENDAR