BEGIN:VCALENDAR
VERSION:2.0
PRODID:-//Stroud Water Research Center - ECPv6.15.20//NONSGML v1.0//EN
CALSCALE:GREGORIAN
METHOD:PUBLISH
X-WR-CALNAME:Stroud Water Research Center
X-ORIGINAL-URL:https://stroudcenter.org
X-WR-CALDESC:Events for Stroud Water Research Center
REFRESH-INTERVAL;VALUE=DURATION:PT1H
X-Robots-Tag:noindex
X-PUBLISHED-TTL:PT1H
BEGIN:VTIMEZONE
TZID:America/New_York
BEGIN:DAYLIGHT
TZOFFSETFROM:-0500
TZOFFSETTO:-0400
TZNAME:EDT
DTSTART:20230312T070000
END:DAYLIGHT
BEGIN:STANDARD
TZOFFSETFROM:-0400
TZOFFSETTO:-0500
TZNAME:EST
DTSTART:20231105T060000
END:STANDARD
BEGIN:DAYLIGHT
TZOFFSETFROM:-0500
TZOFFSETTO:-0400
TZNAME:EDT
DTSTART:20240310T070000
END:DAYLIGHT
BEGIN:STANDARD
TZOFFSETFROM:-0400
TZOFFSETTO:-0500
TZNAME:EST
DTSTART:20241103T060000
END:STANDARD
BEGIN:DAYLIGHT
TZOFFSETFROM:-0500
TZOFFSETTO:-0400
TZNAME:EDT
DTSTART:20250309T070000
END:DAYLIGHT
BEGIN:STANDARD
TZOFFSETFROM:-0400
TZOFFSETTO:-0500
TZNAME:EST
DTSTART:20251102T060000
END:STANDARD
END:VTIMEZONE
BEGIN:VEVENT
DTSTART;TZID=America/New_York:20240914T090000
DTEND;TZID=America/New_York:20240914T150000
DTSTAMP:20260422T125517
CREATED:20240701T155622Z
LAST-MODIFIED:20241105T152647Z
UID:30195-1726304400-1726326000@stroudcenter.org
SUMMARY:Slimy Leaves for Healthy Streams: A Leaf Pack Network Workshop
DESCRIPTION:When: Saturday\, September 14\, 2024\, from 9 a.m. to 3 p.m.Where: Stroud Water Research Center\, 970 Spencer Road\, Avondale\, PA 19311Audience: Middle and high school teachers\, environmental educators\, and anyone interested in community science.Cost: Free! Registration is required\, see the instructions below. Please bring a lunch. \n\n\n\nHow Can Clumps of Slimy Leaves Spark Stream Exploration?\n\n\n\nThe Leaf Pack Network® is a fun\, hands-on research and outreach tool for people of all ages that demonstrates how our actions on land impact life in streams and water quality. The Leaf Pack Network promotes inquiry-based interdisciplinary watershed education. It teaches diverse audiences to conduct experiments\, gather ecological data\, explore food webs\, learn classification skills\, use technology to share data\, compare data with other communities’ data\, and apply that information to protect local watersheds. \n\n\n\nJoin Us at Our Workshop and We’ll Show You How!\n\n\n\nParticipants will receive an overview of stream ecology and watershed concepts based on research at Stroud Water Research Center. Taking our boots to the stream\, we’ll examine leaf packs with live aquatic macroinvertebrates\, identify them\, and explore the Leaf Pack Network website. \n\n\n\nLeaf Pack Stream Ecology Kit\n\n\n\nAt the workshop\, you will receive: \n\n\n\n\nLeaf Pack Stream Ecology Kit give-aways!\n\n\n\nTour of the Stroud Center’s research labs and LEED-Platinum-certified building\n\n\n\nHands-on experience deploying and retrieving leaf packs from the stream\n\n\n\nTraining in macroinvertebrate ID\n\n\n\nFUN teaching techniques to bring to your classes!\n\n\n\nCertificate of participation (volunteer hours or towards teacher professional development credits)
URL:https://stroudcenter.org/event/leaf-pack-workshop-2024/
LOCATION:Stroud Water Research Center\, 970 Spencer Road\, Avondale\, PA\, 19311\, United States
CATEGORIES:Workshop
ATTACH;FMTTYPE=image/jpeg:https://stroudcenter.org/wp-content/uploads/two-leaf-packers.jpg
END:VEVENT
END:VCALENDAR