BEGIN:VCALENDAR
VERSION:2.0
PRODID:-//Stroud Water Research Center - ECPv6.15.20//NONSGML v1.0//EN
CALSCALE:GREGORIAN
METHOD:PUBLISH
X-WR-CALNAME:Stroud Water Research Center
X-ORIGINAL-URL:https://stroudcenter.org
X-WR-CALDESC:Events for Stroud Water Research Center
REFRESH-INTERVAL;VALUE=DURATION:PT1H
X-Robots-Tag:noindex
X-PUBLISHED-TTL:PT1H
BEGIN:VTIMEZONE
TZID:America/New_York
BEGIN:DAYLIGHT
TZOFFSETFROM:-0500
TZOFFSETTO:-0400
TZNAME:EDT
DTSTART:20230312T070000
END:DAYLIGHT
BEGIN:STANDARD
TZOFFSETFROM:-0400
TZOFFSETTO:-0500
TZNAME:EST
DTSTART:20231105T060000
END:STANDARD
BEGIN:DAYLIGHT
TZOFFSETFROM:-0500
TZOFFSETTO:-0400
TZNAME:EDT
DTSTART:20240310T070000
END:DAYLIGHT
BEGIN:STANDARD
TZOFFSETFROM:-0400
TZOFFSETTO:-0500
TZNAME:EST
DTSTART:20241103T060000
END:STANDARD
BEGIN:DAYLIGHT
TZOFFSETFROM:-0500
TZOFFSETTO:-0400
TZNAME:EDT
DTSTART:20250309T070000
END:DAYLIGHT
BEGIN:STANDARD
TZOFFSETFROM:-0400
TZOFFSETTO:-0500
TZNAME:EST
DTSTART:20251102T060000
END:STANDARD
END:VTIMEZONE
BEGIN:VEVENT
DTSTART;TZID=America/New_York:20241028T090000
DTEND;TZID=America/New_York:20241028T153000
DTSTAMP:20260422T113512
CREATED:20231023T164211Z
LAST-MODIFIED:20241105T151626Z
UID:29209-1730106000-1730129400@stroudcenter.org
SUMMARY:Mapping MWEEs in Pennsylvania's STEELS Standards
DESCRIPTION:When: Monday\, October 28\, 2024\, from 9 a.m. to 3:30 p.m.\n\n\n\nWhere: Stroud Water Research Center\, 970 Spencer Road\, Avondale\, PA 19311.\n\n\n\nCost: Free\, including lunch.\n\n\n\nCredits: Six Act 48 continuing education hours will be provided for Pa. Certified Teachers.\n\n\n\n\nDress comfortably and for the weather. The event is rain or shine. \n\n\n\nJoin us at Stroud Water Research Center\, where we will examine the Pennsylvania Science\, Technology\, Engineering\, Environmental Literacy\, and Sustainability (STEELS) K–12 Standards\, with a focus on the environmental literacy and sustainability standards.  \n\n\n\nWe’ll explore identifying natural phenomena\, shifts in practices\, and cross-cutting concepts specific to STEELS. Participants will engage in outdoor learning experiences and leverage these experiences for their own Meaningful Watershed Educational Experience (MWEE) project. \n\n\n\nQuestions? Please contact Steve Kerlin or Diana Potts. \n\n\n\nPresented By:\n\n\n\n\n\n\n\n\n\n\n\n\n\n\n\n\n\n\n\n\n\n\n\n\n\n\n\n\n\nThis material is based upon work supported by NOAA Grant No. NA22NMF4570318. Any opinions\, findings\, conclusions\, or recommendations expressed in this material are those of the author(s) and do not necessarily reflect the views of the National Oceanic and Atmospheric Administration.
URL:https://stroudcenter.org/event/mapping-mwees-new-standards/
LOCATION:Stroud Water Research Center\, 970 Spencer Road\, Avondale\, PA\, 19311\, United States
CATEGORIES:Workshop
ATTACH;FMTTYPE=image/jpeg:https://stroudcenter.org/wp-content/uploads/mwee-teacher-worskhop.jpg
END:VEVENT
END:VCALENDAR